BEGIN:VCALENDAR
VERSION:2.0
PRODID:Flea Market
BEGIN:VEVENT
UID:69ece659d7cd8
DTSTART:20210516T120000Z
SEQUENCE:0
TRANSP:OPAQUE
DTEND:20210516T184700Z
SUMMARY:Flea Market
CLASS:PUBLIC
DTSTAMP:20260425T160545Z
END:VEVENT
BEGIN:VEVENT
UID:69ece659d83d6
DTSTART:20210523T120000Z
SEQUENCE:0
TRANSP:OPAQUE
DTEND:20210523T180000Z
SUMMARY:Flea Market
CLASS:PUBLIC
DTSTAMP:20260425T160545Z
END:VEVENT
BEGIN:VEVENT
UID:69ece659d83e0
DTSTART:20210606T120000Z
SEQUENCE:0
TRANSP:OPAQUE
DTEND:20210606T180000Z
SUMMARY:Flea Market
CLASS:PUBLIC
DTSTAMP:20260425T160545Z
END:VEVENT
BEGIN:VEVENT
UID:69ece659d83e8
DTSTART:20210613T120000Z
SEQUENCE:0
TRANSP:OPAQUE
DTEND:20210613T180000Z
SUMMARY:Flea Market
CLASS:PUBLIC
DTSTAMP:20260425T160545Z
END:VEVENT
BEGIN:VEVENT
UID:69ece659d83ef
DTSTART:20210620T120000Z
SEQUENCE:0
TRANSP:OPAQUE
DTEND:20210620T180000Z
SUMMARY:Flea Market
CLASS:PUBLIC
DTSTAMP:20260425T160545Z
END:VEVENT
BEGIN:VEVENT
UID:69ece659d83f7
DTSTART:20210627T120000Z
SEQUENCE:0
TRANSP:OPAQUE
DTEND:20210627T180000Z
SUMMARY:Flea Market
CLASS:PUBLIC
DTSTAMP:20260425T160545Z
END:VEVENT
BEGIN:VEVENT
UID:69ece659d83fe
DTSTART:20210711T120000Z
SEQUENCE:0
TRANSP:OPAQUE
DTEND:20210711T180000Z
SUMMARY:Flea Market
CLASS:PUBLIC
DTSTAMP:20260425T160545Z
END:VEVENT
BEGIN:VEVENT
UID:69ece659d8404
DTSTART:20210718T120000Z
SEQUENCE:0
TRANSP:OPAQUE
DTEND:20210718T180000Z
SUMMARY:Flea Market
CLASS:PUBLIC
DTSTAMP:20260425T160545Z
END:VEVENT
BEGIN:VEVENT
UID:69ece659d8427
DTSTART:20210725T120000Z
SEQUENCE:0
TRANSP:OPAQUE
DTEND:20210725T180000Z
SUMMARY:Flea Market
CLASS:PUBLIC
DTSTAMP:20260425T160545Z
END:VEVENT
BEGIN:VEVENT
UID:69ece659d844d
DTSTART:20210808T120000Z
SEQUENCE:0
TRANSP:OPAQUE
DTEND:20210808T180000Z
SUMMARY:Flea Market
CLASS:PUBLIC
DTSTAMP:20260425T160545Z
END:VEVENT
BEGIN:VEVENT
UID:69ece659d8455
DTSTART:20210815T120000Z
SEQUENCE:0
TRANSP:OPAQUE
DTEND:20210815T180000Z
SUMMARY:Flea Market
CLASS:PUBLIC
DTSTAMP:20260425T160545Z
END:VEVENT
BEGIN:VEVENT
UID:69ece659d845b
DTSTART:20210829T120000Z
SEQUENCE:0
TRANSP:OPAQUE
DTEND:20210829T180000Z
SUMMARY:Flea Market
CLASS:PUBLIC
DTSTAMP:20260425T160545Z
END:VEVENT
END:VCALENDAR