BEGIN:VCALENDAR
VERSION:2.0
PRODID:Rochester VFW Post 1215
BEGIN:VEVENT
UID:69e8f27d3b69a
DTSTART:20250409T000000Z
SEQUENCE:0
TRANSP:OPAQUE
DTEND:20250409T010000Z
SUMMARY:Rochester VFW Post 1215
CLASS:PUBLIC
DTSTAMP:20260422T160829Z
END:VEVENT
END:VCALENDAR